BEGIN:VCALENDAR
VERSION:2.0
PRODID:-//wp-events-plugin.com//7.2.3.1//EN
BEGIN:VEVENT
UID:1150@brmt.th-devsite.com
DTSTART;TZID=America/New_York:20240421T140000
DTEND;TZID=America/New_York:20240421T160000
DTSTAMP:20240604T181222Z
URL:https://brmt.th-devsite.com/events/wildwood-farms-sunday-jam-2-2024-04
 -21/
SUMMARY:Wildwood Farms Sunday Jam
DESCRIPTION:Wildwood Farms gardens‚ with over 600 varieties of blooming d
 aylilies‚ have been a landmark in Floyd County since 2000. Jam sessions 
 of traditional mountain music are held year-round on the first and third S
 undays of each month. All are welcome\, so come prepared to listen or joi
 n in!\n\nPhone: 540-745-5155\nEmail: info@wildwoodfarmsdaylilies.com\nUR
 L: http://www.wildwoodfarmsdaylilies.com/musicevents.html\nHours: 2:00pm-
 4:00pm\n\nDirections:\nLocated 4.8 miles outside of Floyd on Highway Rt. 2
 21 South.\n\n&nbsp\;
CATEGORIES:Jam Session
LOCATION:Wildwood Farms General Store\, 2380 Floyd Highway South\, Floyd\, 
 VA\,  24091\, United States
X-APPLE-STRUCTURED-LOCATION;VALUE=URI;X-ADDRESS=2380 Floyd Highway South\, 
 Floyd\, VA\,  24091\, United States;X-APPLE-RADIUS=100;X-TITLE=Wildwood Fa
 rms General Store:geo:0,0
END:VEVENT
BEGIN:VTIMEZONE
TZID:America/New_York
X-LIC-LOCATION:America/New_York
BEGIN:DAYLIGHT
DTSTART:20240310T030000
TZOFFSETFROM:-0500
TZOFFSETTO:-0400
TZNAME:EDT
END:DAYLIGHT
END:VTIMEZONE
END:VCALENDAR