BEGIN:VCALENDAR
VERSION:2.0
PRODID:-//wp-events-plugin.com//7.2.3.1//EN
BEGIN:VEVENT
UID:402@brmt.th-devsite.com
DTSTART;TZID=America/New_York:20240712T000000
DTEND;TZID=America/New_York:20240714T000000
DTSTAMP:20240529T164102Z
URL:https://brmt.th-devsite.com/events/wayside-bluegrass-festival/
SUMMARY:Wayside Bluegrass Festival
DESCRIPTION:The Wayside Bluegrass Festial first began in 1973‚ and contin
 ues to provide a beautiful festival venue for old-time and bluegrass music
  in the Blue Ridge. Located in Patrick County‚ the Wayside Park sponsors
  a bluegrass festival in July. (Please call for exact dates.) Camping is a
 vailable with electric hookups and shade trees are abundant. Also‚ the p
 ark provides concessions‚ a kitchen‚ showers‚ and a 5 acre pond. The
  ampitheater stage is located in a nice shady spot in the park. The Waysid
 e Bluegrass Festival attracts folks from all over including Canada and Jap
 an.\nPhone: 276-692-4149\nEmail: hazelwoodtrucking@embarqmail.com\nURL:\
 nHours: Wednesday‚ Thursday 5pm‚ Friday 2pm and Saturday 1pm\n\nDirect
 ions:\nWayside Park is located approximately 3 miles Southeast of Stuart
 ‚ VA. Follow Highway 58 to Route 8‚ then South on Route 8 to Wayside R
 oad (on left). Go approximately 1 mile to Big A School Road (on left)‚ t
 hen 1.6 miles to Wayside Park Road (on right) Follow the Signs.
CATEGORIES:Festival
LOCATION:Wayside Park\,  332 Wayside Park Road\, Stuart \, VA\, 24171\, Uni
 ted States
X-APPLE-STRUCTURED-LOCATION;VALUE=URI;X-ADDRESS= 332 Wayside Park Road\, St
 uart \, VA\, 24171\, United States;X-APPLE-RADIUS=100;X-TITLE=Wayside Park
 :geo:0,0
END:VEVENT
BEGIN:VTIMEZONE
TZID:America/New_York
X-LIC-LOCATION:America/New_York
BEGIN:DAYLIGHT
DTSTART:20240310T030000
TZOFFSETFROM:-0500
TZOFFSETTO:-0400
TZNAME:EDT
END:DAYLIGHT
END:VTIMEZONE
END:VCALENDAR