BEGIN:VCALENDAR
VERSION:2.0
PRODID:-//wp-events-plugin.com//7.2.3.1//EN
BEGIN:VEVENT
UID:354@brmt.th-devsite.com
DTSTART;TZID=America/New_York:20240615T103000
DTEND;TZID=America/New_York:20240615T180000
DTSTAMP:20240605T160823Z
URL:https://brmt.th-devsite.com/events/wayne-c-henderson-music-festival-an
 d-guitar-competition/
SUMMARY:Wayne C. Henderson Music Festival and Guitar Competition
DESCRIPTION:Held at Grayson Highlands State Park‚ the Wayne C. Henderson 
 Music Festival and Guitar Competition feature some of the region’s best 
 musicians. The event takes its name from National Heritage Award recipient
  Wayne C. Henderson‚ a musician and instrument maker who lives in nearby
  Rugby‚ Virginia. The top award winner receives a hand-made Henderson gu
 itar. Wayne and many of his musical friends are featured performers at the
  festival‚ and bluegrass and old-time music dominate the musical fare. A
 dmission is $20.00 per adult and children under 12 are free. Please note t
 here is a $10.00 Virginia State parking fee per vehicle. This event has be
 en cancelled due to Covid.\nPhone: 276-579-7092\nEmail: info@waynehender
 son.org\nURL: http://www.waynehenderson.org/\nHours: 10:30a.m.-6p.m.\n\nD
 irections:\nFrom Independence take US 58 through Mouth of Wilson and Volne
 y to Route 362. The entrance sign to Grayson Highlands State Park is on th
 e right. Turn right and follow the signage.
CATEGORIES:Festival
LOCATION:Grayson Highlands State Park\, 829 Grayson Highland Lane\, Mouth o
 f Wilson\, Virginia\, 24363\, United States
X-APPLE-STRUCTURED-LOCATION;VALUE=URI;X-ADDRESS=829 Grayson Highland Lane\,
  Mouth of Wilson\, Virginia\, 24363\, United States;X-APPLE-RADIUS=100;X-T
 ITLE=Grayson Highlands State Park:geo:0,0
END:VEVENT
BEGIN:VTIMEZONE
TZID:America/New_York
X-LIC-LOCATION:America/New_York
BEGIN:DAYLIGHT
DTSTART:20240310T030000
TZOFFSETFROM:-0500
TZOFFSETTO:-0400
TZNAME:EDT
END:DAYLIGHT
END:VTIMEZONE
END:VCALENDAR