BEGIN:VCALENDAR
VERSION:2.0
PRODID:-//wp-events-plugin.com//7.2.3.1//EN
BEGIN:VEVENT
UID:325@brmt.th-devsite.com
DTSTART;TZID=America/New_York:20240627T080000
DTEND;TZID=America/New_York:20241001T180000
DTSTAMP:20240627T184047Z
URL:https://brmt.th-devsite.com/events/the-harmon-museum/
SUMMARY:The Harmon Museum
DESCRIPTION:The Harmon Museum features exhibits on Hillsville history‚ In
 dian artifacts‚ pioneer tools‚ antique military guns‚ and early folk
  music memorabilia. This is definitely an interesting museum for the perso
 n interested in historical artifacts of any kind. The Museum is currently 
 closed and not hosting live music events.\nPhone: 276-236-4884\nHours: 8a
 m-6pm (Monday-Saturday)‚ 1-5 (Sunday)\n\nDirections:\nFrom Galax take US
  58 east toward Hillsville. Harmon’s Clothing and The Harmon Museum will
  be on the left at Woodlawn. There will be signs for Stetson Hats and hunt
 ing clothes around the store area.
LOCATION:In the Back of Harmon’s Clothing Store\, 5122 Carrollton Pike\, 
 Woodlawn \, VA\, 24381\, United States
X-APPLE-STRUCTURED-LOCATION;VALUE=URI;X-ADDRESS=5122 Carrollton Pike\, Wood
 lawn \, VA\, 24381\, United States;X-APPLE-RADIUS=100;X-TITLE=In the Back 
 of Harmon’s Clothing Store:geo:0,0
END:VEVENT
BEGIN:VTIMEZONE
TZID:America/New_York
X-LIC-LOCATION:America/New_York
BEGIN:DAYLIGHT
DTSTART:20240310T030000
TZOFFSETFROM:-0500
TZOFFSETTO:-0400
TZNAME:EDT
END:DAYLIGHT
END:VTIMEZONE
END:VCALENDAR