BEGIN:VCALENDAR
VERSION:2.0
PRODID:-//wp-events-plugin.com//7.2.3.1//EN
BEGIN:VEVENT
UID:4397@brmt.th-devsite.com
DTSTART;TZID=America/New_York:20240601T000000
DTEND;TZID=America/New_York:20240601T000000
DTSTAMP:20240703T183020Z
URL:https://brmt.th-devsite.com/events/saunders-old-time-music-2-2024-06-0
 1/
SUMMARY:Saunder’s Old-Time Music
DESCRIPTION:Located in beautiful Nelson County‚ Virginia‚ Saunders Brot
 hers grows quality peaches‚ apples‚ Asian pears‚ vegetables‚ flowe
 ring shrubs‚ annuals and perennials. They offer old-time music with a "p
 eppering" of bluegrass and gospel every Saturday‚ May-November. And they
  only quit in November since the instruments get too cold and "lose their 
 tune"!\nPhone: 434-277-5455\nEmail: slandon@saundersbrothers.com\nURL: 
 https://saundersbrothersfarmmarket.com\nHours: 9:00am-6:00pm\n\nDirections
 :\nComing from South of Lynchburg: Take 29 North. Go approximately 30 mile
 s to town of Colleen. Take a left on 56 West. Go 2.2 miles and nursery wil
 l be on right. Coming from Staunton: Take 64 East approximately 35 miles t
 o Charlottesville. Take exit to 29 South. Go approximately 35 miles to the
  town of Colleen. Take a right on 56 West. Go 2.2 miles and nursery will b
 e on right.
CATEGORIES:Concert
LOCATION:Saunder’s Brothers Farm Market\, 2717 Tye Brook Hwy\, Piney Rive
 r\, Virginia\, 22964\, United States
X-APPLE-STRUCTURED-LOCATION;VALUE=URI;X-ADDRESS=2717 Tye Brook Hwy\, Piney 
 River\, Virginia\, 22964\, United States;X-APPLE-RADIUS=100;X-TITLE=Saunde
 r’s Brothers Farm Market:geo:0,0
END:VEVENT
BEGIN:VTIMEZONE
TZID:America/New_York
X-LIC-LOCATION:America/New_York
BEGIN:DAYLIGHT
DTSTART:20240310T030000
TZOFFSETFROM:-0500
TZOFFSETTO:-0400
TZNAME:EDT
END:DAYLIGHT
END:VTIMEZONE
END:VCALENDAR