BEGIN:VCALENDAR
VERSION:2.0
PRODID:-//wp-events-plugin.com//7.2.3.1//EN
BEGIN:VEVENT
UID:4390@brmt.th-devsite.com
DTSTART;TZID=America/New_York:20250426T170000
DTEND;TZID=America/New_York:20250426T210000
DTSTAMP:20240703T182437Z
URL:https://brmt.th-devsite.com/events/patrick-county-music-association-mu
 sic-jamboree-2-2025-04-26/
SUMMARY:Patrick County Music Association Music Jamboree
DESCRIPTION:The Patrick County Music Association invites you to come out ev
 ery month and take in a first-rate music event and jam in the Rotary Build
 ings at the Stuart Fairgrounds. Doors open at 5:00 p.m. and the music ends
  around 9 p.m. Head to the larger building for bluegrass or old-time perfo
 rmances‚ or step inside the smaller building for an informal jam. Perfor
 ming groups will often warm-up at the jam before performing in the large b
 uilding‚ then head back to the jam after their show. Bring chairs along
 ‚ as there is no seating provided in the buildings. Food is sold by loca
 l non-profit organizations. All proceeds benefit the organizations‚ whic
 h are often charities. Check the website for a list of upcoming performing
  groups. The event is held on the fourth Saturday of each month except for
  November and December. During these months‚ the event is the third Satu
 rday due to holidays.\n\nPhone: 276-694-4232\nEmail: patrickcountymusica
 ssociation@gmail.com\nURL:https://visitpatrickcounty.org/attractions/patri
 ck-county-music-association/\n\nHours: 5:00pm\n\nDirections:\nFrom Route 5
 8‚ turn onto Woodland Drive/Rt. 835. Pass the R. J. Reynolds Patrick Cou
 nty Memorial Hospital‚ and continue on to the fairgrounds.
CATEGORIES:Concert
LOCATION:Rotary Building on the Fairgrounds\,  420 Woodland Drive\, Stuart\
 , VA\, 24171\, United States
X-APPLE-STRUCTURED-LOCATION;VALUE=URI;X-ADDRESS= 420 Woodland Drive\, Stuar
 t\, VA\, 24171\, United States;X-APPLE-RADIUS=100;X-TITLE=Rotary Building 
 on the Fairgrounds:geo:0,0
END:VEVENT
BEGIN:VTIMEZONE
TZID:America/New_York
X-LIC-LOCATION:America/New_York
BEGIN:DAYLIGHT
DTSTART:20250309T030000
TZOFFSETFROM:-0500
TZOFFSETTO:-0400
TZNAME:EDT
END:DAYLIGHT
END:VTIMEZONE
END:VCALENDAR