BEGIN:VCALENDAR
VERSION:2.0
PRODID:-//wp-events-plugin.com//7.2.3.1//EN
BEGIN:VEVENT
UID:475@brmt.th-devsite.com
DTSTART;TZID=America/New_York:20240620T190000
DTEND;TZID=America/New_York:20240620T210000
DTSTAMP:20240524T172248Z
URL:https://brmt.th-devsite.com/events/open-mic-night-at-potters-craft-cid
 er-2/
SUMMARY:Open Mic Night at Potter’s Craft Cider
DESCRIPTION:Mondays\, Thursdays\, and Saturdays are jam days!  Front Porch
  jams are open to all levels of players\, including Front Porch students a
 s well as non-students. Attending a jam is free\, low-key\, and fun! All j
 ams take place at our Water Street location\, except for the 2nd Monday 
 Old Time Jam\, which takes place at our Dale Ave location\, and the 3rd 
 Thursday Open Mic Night\, which takes place at Potter’s Craft Cider. Sig
 n up in person at Potter’s Craft Cider beginning at 6:30 pm. Sign ups ar
 e first come\, first serve for open mic slots.\n\nJam Hosts: Erynn McLeod\
 n\nPhone: (434) 806-7062\nEmail: info@frontporchcville.org\nURL: http://
 frontporchcville.org\n\nHours: 3rd Thursday: 7:00pm-8:30pm\n\nDirections:\
 nFrom 64 West- Take the VA-631/5th St. exit\, Exit 120 towards Charlottesv
 ille. Turn left onto 5th St. and continue to follow for approximately 2.13
  miles. Turn right onto Water St. E\, our building will be on the left.
CATEGORIES:Jam Session
LOCATION:Potter’s Craft Cider\, 1350 Arrowhead Valley Rd\, Charlottesvill
 e\, Virginia\, 22903\, United Kingdom
X-APPLE-STRUCTURED-LOCATION;VALUE=URI;X-ADDRESS=1350 Arrowhead Valley Rd\, 
 Charlottesville\, Virginia\, 22903\, United Kingdom;X-APPLE-RADIUS=100;X-T
 ITLE=Potter’s Craft Cider:geo:0,0
END:VEVENT
BEGIN:VTIMEZONE
TZID:America/New_York
X-LIC-LOCATION:America/New_York
BEGIN:DAYLIGHT
DTSTART:20240310T030000
TZOFFSETFROM:-0500
TZOFFSETTO:-0400
TZNAME:EDT
END:DAYLIGHT
END:VTIMEZONE
END:VCALENDAR