BEGIN:VCALENDAR
VERSION:2.0
PRODID:-//wp-events-plugin.com//7.2.3.1//EN
BEGIN:VEVENT
UID:501@brmt.th-devsite.com
DTSTART;TZID=America/New_York:20240529T183000
DTEND;TZID=America/New_York:20240529T210000
DTSTAMP:20240529T154700Z
URL:https://brmt.th-devsite.com/events/old-time-mountain-music-jam-2/
SUMMARY:Old-Time Mountain Music Jam
DESCRIPTION:Every Wednesday night from 6:30 to 9:00‚ the Historic 1908 Co
 urthouse sponsors an Old-time Mountain Music Jam. In the summer when the w
 eather is nice‚ we do it out back in the band stand (gazebo). If the wea
 ther is threatening or cold‚ we move inside. The jam goes on year-round
 ‚ 52 weeks a year‚ with exceptions for Christmas and New Years‚ if t
 hey fall on a Wednesday. This event has been cancelled due to Covid.\nPhon
 e: 276-773-3711\nEmail: president@historic1908courthouse.org\nURL: http
 ://historic1908courthouse.org/events/old-time-mountain-music-jam/\nHours: 
 6:30 p.m.-9 p.m.\n\nDirections:\nThe town of Independence is located at th
 e intersection of US 58/221 and US 21/221.
CATEGORIES:Jam Session
LOCATION:Historic 1908 Courthouse\, 107 East Main Street\, Independence\, V
 irginia\, 24348\, United States
X-APPLE-STRUCTURED-LOCATION;VALUE=URI;X-ADDRESS=107 East Main Street\, Inde
 pendence\, Virginia\, 24348\, United States;X-APPLE-RADIUS=100;X-TITLE=His
 toric 1908 Courthouse:geo:0,0
END:VEVENT
BEGIN:VTIMEZONE
TZID:America/New_York
X-LIC-LOCATION:America/New_York
BEGIN:DAYLIGHT
DTSTART:20240310T030000
TZOFFSETFROM:-0500
TZOFFSETTO:-0400
TZNAME:EDT
END:DAYLIGHT
END:VTIMEZONE
END:VCALENDAR