BEGIN:VCALENDAR
VERSION:2.0
PRODID:-//wp-events-plugin.com//7.2.3.1//EN
BEGIN:VEVENT
UID:459@brmt.th-devsite.com
DTSTART;TZID=America/New_York:20240708T193000
DTEND;TZID=America/New_York:20240708T210000
DTSTAMP:20240524T165448Z
URL:https://brmt.th-devsite.com/events/old-time-jam-at-the-front-porch-25/
SUMMARY:Old Time Jam at The Front Porch
DESCRIPTION:Mondays\, Thursdays\, and Saturdays are jam days!  Front Porch
  jams are open to all levels of players\, including Front Porch students a
 s well as non-students. Attending a jam is free\, low-key\, and fun! All j
 ams take place at our Water Street location\, except for the 2nd Monday 
 Old Time Jam\, which takes place at our Dale Ave location\, and the 3rd 
 Thursday Open Mic Night\, which takes place at Potter’s Craft Cider.\n\n
 Jam Host: Pete Vigour\n\nPhone: (434) 806-7062\nEmail: info@frontporchcvi
 lle.org\nURL: http://frontporchcville.org\n\nHours: 2nd Monday: 7:30pm-9:
 00pm\n\nDirections:\nFrom 64 West- Take the VA-631/5th St. exit\, Exit 120
  towards Charlottesville. Turn left onto 5th St. and continue to follow fo
 r approximately 2.13 miles. Turn right onto Water St. E\, our building wil
 l be on the left.
CATEGORIES:Jam Session
LOCATION:The Front Porch\, 508 Dale Avenue\,\, Charlottesville\, VA\, 22902
 \, United States
X-APPLE-STRUCTURED-LOCATION;VALUE=URI;X-ADDRESS=508 Dale Avenue\,\, Charlot
 tesville\, VA\, 22902\, United States;X-APPLE-RADIUS=100;X-TITLE=The Front
  Porch:geo:0,0
END:VEVENT
BEGIN:VTIMEZONE
TZID:America/New_York
X-LIC-LOCATION:America/New_York
BEGIN:DAYLIGHT
DTSTART:20240310T030000
TZOFFSETFROM:-0500
TZOFFSETTO:-0400
TZNAME:EDT
END:DAYLIGHT
END:VTIMEZONE
END:VCALENDAR