BEGIN:VCALENDAR
VERSION:2.0
PRODID:-//wp-events-plugin.com//7.2.3.1//EN
BEGIN:VEVENT
UID:436@brmt.th-devsite.com
DTSTART;TZID=America/New_York:20240704T190000
DTEND;TZID=America/New_York:20240704T203000
DTSTAMP:20240523T173358Z
URL:https://brmt.th-devsite.com/events/old-time-jam-at-the-front-porch-2/
SUMMARY:Old Time Jam at The Front Porch
DESCRIPTION:Mondays\, Thursdays\, and Saturdays are jam days!  Front Porch
  jams are open to all levels of players\, including Front Porch students a
 s well as non-students. Attending a jam is free\, low-key\, and fun! All j
 ams take place at our Water Street location\, except for the 2nd Monday 
 Old Time Jam\, which takes place at our Dale Ave location\, and the 3rd 
 Thursday Open Mic Night\, which takes place at Potter’s Craft Cider.\n\n
 Jam Host: Christen Hubbard\n\nPhone: (434) 806-7062\nEmail: info@frontpor
 chcville.org\nURL: http://frontporchcville.org\n\nHours: 1st Thursday: 7:
 00pm-8:30pm\n\nDirections:\nFrom 64 West- Take the VA-631/5th St. exit\, E
 xit 120 towards Charlottesville. Turn left onto 5th St. and continue to fo
 llow for approximately 2.13 miles. Turn right onto Water St. E\, our build
 ing will be on the left.
CATEGORIES:Jam Session
LOCATION:The Front Porch - Charlottesville\, 221 Water Street East\, Charlo
 ttesville\, Virginia\, 22902\, Albemarle\, United States
X-APPLE-STRUCTURED-LOCATION;VALUE=URI;X-ADDRESS=221 Water Street East\, Cha
 rlottesville\, Virginia\, 22902\, Albemarle\, United States;X-APPLE-RADIUS
 =100;X-TITLE=The Front Porch - Charlottesville:geo:0,0
END:VEVENT
BEGIN:VTIMEZONE
TZID:America/New_York
X-LIC-LOCATION:America/New_York
BEGIN:DAYLIGHT
DTSTART:20240310T030000
TZOFFSETFROM:-0500
TZOFFSETTO:-0400
TZNAME:EDT
END:DAYLIGHT
END:VTIMEZONE
END:VCALENDAR