BEGIN:VCALENDAR
VERSION:2.0
PRODID:-//wp-events-plugin.com//7.2.3.1//EN
BEGIN:VEVENT
UID:4245@brmt.th-devsite.com
DTSTART;TZID=America/New_York:20241109T180000
DTEND;TZID=America/New_York:20241109T203000
DTSTAMP:20240618T182353Z
URL:https://brmt.th-devsite.com/events/nrcc-concert-series-jamborees-2024-
 11-09/
SUMMARY:NRCC Concert Series jamborees
DESCRIPTION:This monthly event features one bluegrass and one old-time stri
 ng band at each gathering. The hat is passed for donations to cover expens
 es. The music is played at Edwards Hall in a space that affords ample room
  for the musicians‚ an audience‚ and dancing. A fee is charged for sel
 ect shows.\nPhone: 540-674-3600ext.4307\nEmail: radkins@nr.edu\nURL: ht
 tps://www.nr.edu/fiddle/\nHours: 6:00pm-8:30pm\n\nDirections:\nFrom Inters
 tate 81‚ take exit 98 to Route 100 north‚ go about 2 miles to New Rive
 r Community College which will be on your left. Turn into the college entr
 ance. Edwards hall is the first building on your right.
CATEGORIES:Jam Session
LOCATION:New River Community College\, 5251 College Drive\, Dublin\, VA\, 2
 4084\, United States
X-APPLE-STRUCTURED-LOCATION;VALUE=URI;X-ADDRESS=5251 College Drive\, Dublin
 \, VA\, 24084\, United States;X-APPLE-RADIUS=100;X-TITLE=New River Communi
 ty College:geo:0,0
END:VEVENT
BEGIN:VTIMEZONE
TZID:America/New_York
X-LIC-LOCATION:America/New_York
BEGIN:STANDARD
DTSTART:20241103T010000
TZOFFSETFROM:-0400
TZOFFSETTO:-0500
TZNAME:EST
END:STANDARD
END:VTIMEZONE
END:VCALENDAR