BEGIN:VCALENDAR
VERSION:2.0
PRODID:-//wp-events-plugin.com//7.2.3.1//EN
BEGIN:VEVENT
UID:4382@brmt.th-devsite.com
DTSTART;TZID=America/New_York:20250412T180000
DTEND;TZID=America/New_York:20250412T203000
DTSTAMP:20240703T175434Z
URL:https://brmt.th-devsite.com/events/nrcc-concert-series-jamborees-2-202
 5-04-12/
SUMMARY:NRCC Concert Series Jamborees
DESCRIPTION:Every second Saturday between October and April\, this event fe
 atures one bluegrass and one old-time string band at each gathering. The h
 at is passed for donations to cover expenses. The music is played at Edwar
 ds Hall in a space that affords ample room for the musicians‚ an audienc
 e‚ and dancing. A fee is charged for select shows.\nPhone: 540-674-3625
 \nEmail:tjones@nr.edu\nURL: https://www.nr.edu/fiddle/\nHours: 6:00pm-8:3
 0pm\n\nDirections:\nFrom Interstate 81‚ take exit 98 to Route 100 north
 ‚ go about 2 miles to New River Community College which will be on your 
 left. Turn into the college entrance. Edwards hall is the first building o
 n your right.
CATEGORIES:Concert
LOCATION:New River Community College\, 5251 College Drive\, Dublin\, VA\, 2
 4084\, United States
X-APPLE-STRUCTURED-LOCATION;VALUE=URI;X-ADDRESS=5251 College Drive\, Dublin
 \, VA\, 24084\, United States;X-APPLE-RADIUS=100;X-TITLE=New River Communi
 ty College:geo:0,0
END:VEVENT
BEGIN:VTIMEZONE
TZID:America/New_York
X-LIC-LOCATION:America/New_York
BEGIN:DAYLIGHT
DTSTART:20250309T030000
TZOFFSETFROM:-0500
TZOFFSETTO:-0400
TZNAME:EDT
END:DAYLIGHT
END:VTIMEZONE
END:VCALENDAR