BEGIN:VCALENDAR
VERSION:2.0
PRODID:-//wp-events-plugin.com//7.2.3.1//EN
BEGIN:VEVENT
UID:420@brmt.th-devsite.com
DTSTART;TZID=America/New_York;VALUE=DATE:20240919
DTEND;TZID=America/New_York;VALUE=DATE:20240922
DTSTAMP:20240528T175543Z
URL:https://brmt.th-devsite.com/events/nothin-fancy-bluegrass-festival/
SUMMARY:Nothin’ Fancy Bluegrass Festival
DESCRIPTION:This bluegrass festival at Glen Maury Park has been entertainin
 g folks since 2000! Camping is available and families are welcome to this 
 stellar event! This event has been suspended due to Covid.\nPhone: 540-26
 1-7321\nEmail: info@lexingtonva.com\nURL: http://www.nothinfancybluegras
 s.com\n\nDirections:\nFrom Interstate 81 take exit 188 onto Route US 60 ea
 st. Go into Buena Vista and take Route 501 south (on your right)‚ and wa
 tch for the sign and road to the campground.
CATEGORIES:Festival
LOCATION:Glen Maury Park\,  101 Maury River Drive\, Buena Vista\, VA\, 2441
 6\, United States
X-APPLE-STRUCTURED-LOCATION;VALUE=URI;X-ADDRESS= 101 Maury River Drive\, Bu
 ena Vista\, VA\, 24416\, United States;X-APPLE-RADIUS=100;X-TITLE=Glen Mau
 ry Park:geo:0,0
END:VEVENT
BEGIN:VTIMEZONE
TZID:America/New_York
X-LIC-LOCATION:America/New_York
BEGIN:DAYLIGHT
DTSTART:20240310T030000
TZOFFSETFROM:-0500
TZOFFSETTO:-0400
TZNAME:EDT
END:DAYLIGHT
END:VTIMEZONE
END:VCALENDAR