BEGIN:VCALENDAR
VERSION:2.0
PRODID:-//wp-events-plugin.com//7.2.3.1//EN
BEGIN:VEVENT
UID:4429@brmt.th-devsite.com
DTSTART;TZID=America/New_York:20241110T000000
DTEND;TZID=America/New_York:20241110T000000
DTSTAMP:20240703T184355Z
URL:https://brmt.th-devsite.com/events/mingle-at-the-market-2024-11-10/
SUMMARY:Mingle at the Market
DESCRIPTION:Come see live music\, sample fresh harvested produce\, or spin 
 a hula hoop in the sunshine. The Blacksburg Farmers Market is more than a 
 market\, it’s a community gathering place\, with a full calendar of ente
 rtainment and educational activities like Mingle on the Market\, and a Vi
 ntage Market the the second Sunday each month. Come on down\, and join us
  for a taste of local culture!\nPhone: 540-239-8290\nURL: http://blacksb
 urgfarmersmarket.com/events/2019-08/\nHours: 4:30-7pm\n\nDirections:\nFrom
  US Rt. 460 bypass around Blacksburg- Take the Prices Fork Rd. Exit (VA Rt
 . 412) towards Blacksburg downtown. Turn right onto State Rte 652. Turn ri
 ght onto State Rte 652. Turn left onto Prices Fork Rd. Turn right onto W R
 oanoke St. Turn left onto Draper Rd SW. Destination will be on the left.
CATEGORIES:Gathering
LOCATION:Blacksburg Farmers Market\, 100 Draper Rd SW\, Blacksburg\, VA\, 2
 4060\, United States
X-APPLE-STRUCTURED-LOCATION;VALUE=URI;X-ADDRESS=100 Draper Rd SW\, Blacksbu
 rg\, VA\, 24060\, United States;X-APPLE-RADIUS=100;X-TITLE=Blacksburg Farm
 ers Market:geo:0,0
END:VEVENT
BEGIN:VTIMEZONE
TZID:America/New_York
X-LIC-LOCATION:America/New_York
BEGIN:STANDARD
DTSTART:20241103T010000
TZOFFSETFROM:-0400
TZOFFSETTO:-0500
TZNAME:EST
END:STANDARD
END:VTIMEZONE
END:VCALENDAR