BEGIN:VCALENDAR
VERSION:2.0
PRODID:-//wp-events-plugin.com//7.2.3.1//EN
BEGIN:VEVENT
UID:4268@brmt.th-devsite.com
DTSTART;TZID=America/New_York:20240717T120000
DTEND;TZID=America/New_York:20240717T150000
DTSTAMP:20240703T171754Z
URL:https://brmt.th-devsite.com/events/mid-day-mountain-music-2024-07-17/
SUMMARY:Mid-Day Mountain Music
DESCRIPTION:The sounds of the fiddle‚ banjo‚ and guitar are likely to w
 elcome you when you visit the Blue Ridge Music Center open late May-Octobe
 r. When you visit‚ you can experience regional traditional music with Mi
 d-Day Mountain Musicians on the breezeway of the visitors center. Be sure 
 and bring your lawn chair and stay for a while!\nPhone: (276) 236-5309\nU
 RL: http://www.blueridgemusiccenter.org/midday-mountain-music.htm\nHours:
  12 p.m-4 p.m.\n\nDirections:\nThe Blue Ridge Music Center is located on t
 he Blue Ridge Parkway‚ at Milepost 213‚ about 10 miles east of Galax
 ‚ Virginia‚ and just north of the North Carolina/Virginia state line.
CATEGORIES:Concert
LOCATION:Blue Ridge Music Center\, 700 Foothills Road \, Galax \, Virginia\
 , 24333\, Carroll\, United States
GEO:36.573188;-80.850277
X-APPLE-STRUCTURED-LOCATION;VALUE=URI;X-ADDRESS=700 Foothills Road \, Galax
  \, Virginia\, 24333\, Carroll\, United States;X-APPLE-RADIUS=100;X-TITLE=
 Blue Ridge Music Center:geo:36.573188,-80.850277
END:VEVENT
BEGIN:VTIMEZONE
TZID:America/New_York
X-LIC-LOCATION:America/New_York
BEGIN:DAYLIGHT
DTSTART:20240310T030000
TZOFFSETFROM:-0500
TZOFFSETTO:-0400
TZNAME:EDT
END:DAYLIGHT
END:VTIMEZONE
END:VCALENDAR