BEGIN:VCALENDAR
VERSION:2.0
PRODID:-//wp-events-plugin.com//7.2.3.1//EN
BEGIN:VEVENT
UID:403@brmt.th-devsite.com
DTSTART;TZID=America/New_York:20240526T103000
DTEND;TZID=America/New_York:20240526T120000
DTSTAMP:20240613T191527Z
URL:https://brmt.th-devsite.com/events/memorial-day-gospel-sing/
SUMMARY:Memorial Day Gospel Sing
DESCRIPTION:The Gospel Sing is a celebration and a gathering of spiritual m
 usic‚ offering the community an opportunity to enjoy southern gospel mus
 ic.\nPhone: 276-694-4245\nEmail: dominionvalleyllc@embarqmail.com\nURL:
  http://www.dominionvalleyllc.com/events.html\nHours: Friday-Saturday: 5:
 30pm-10pm Sunday Service: 10:30am-noon\n\nDirections:\nFrom Stuart take US
  58 toward Martinsville. One mile past the Critz sign you will find Route 
 700. Turn right on to Route 700. Turn right onto Dominion Valley Lane‚ g
 o about 3 miles‚ and the Park is on your right.
CATEGORIES:Concert
LOCATION:Dominion Valley Park\, 481 Dominion Valley Lane\, Stuart\, VA\, 24
 171\, United States
X-APPLE-STRUCTURED-LOCATION;VALUE=URI;X-ADDRESS=481 Dominion Valley Lane\, 
 Stuart\, VA\, 24171\, United States;X-APPLE-RADIUS=100;X-TITLE=Dominion Va
 lley Park:geo:0,0
END:VEVENT
BEGIN:VTIMEZONE
TZID:America/New_York
X-LIC-LOCATION:America/New_York
BEGIN:DAYLIGHT
DTSTART:20240310T030000
TZOFFSETFROM:-0500
TZOFFSETTO:-0400
TZNAME:EDT
END:DAYLIGHT
END:VTIMEZONE
END:VCALENDAR