BEGIN:VCALENDAR
VERSION:2.0
PRODID:-//wp-events-plugin.com//7.2.3.1//EN
BEGIN:VEVENT
UID:535@brmt.th-devsite.com
DTSTART;TZID=America/New_York:20240628T180000
DTEND;TZID=America/New_York:20240628T210000
DTSTAMP:20240603T173249Z
URL:https://brmt.th-devsite.com/events/lambsburg-community-center-jam-2024
 -06-28/
SUMMARY:Lambsburg Community Center Jam
DESCRIPTION:Local Lambsburg residents saved their old school building and c
 onverted it into a valuable community center that allows gatherings like t
 his jam session. Since 2007‚ these "open jams" welcome folks playing blu
 egrass‚ gospel and old-time‚ with a little country music thrown in for
  luck! Concessions are available to assist in keeping the center open and 
 there is even a playground for the youngsters--and young at heart!\n\n&nbs
 p\;\n\nPhone: 336-648-2078\nEmail: pwberrier@gmail.com\n\nURL: https://l
 ambsburgcommunitycenter.com/\n\nHours: 6:00 p.m.-10:00 p.m.
CATEGORIES:Jam Session
LOCATION:Lambsburg Community Center\, 130 Learning Lane\, Lambsburg\, VA\, 
 24351\, United States
X-APPLE-STRUCTURED-LOCATION;VALUE=URI;X-ADDRESS=130 Learning Lane\, Lambsbu
 rg\, VA\, 24351\, United States;X-APPLE-RADIUS=100;X-TITLE=Lambsburg Commu
 nity Center:geo:0,0
END:VEVENT
BEGIN:VTIMEZONE
TZID:America/New_York
X-LIC-LOCATION:America/New_York
BEGIN:DAYLIGHT
DTSTART:20240310T030000
TZOFFSETFROM:-0500
TZOFFSETTO:-0400
TZNAME:EDT
END:DAYLIGHT
END:VTIMEZONE
END:VCALENDAR