BEGIN:VCALENDAR
VERSION:2.0
PRODID:-//wp-events-plugin.com//7.2.3.1//EN
BEGIN:VEVENT
UID:404@brmt.th-devsite.com
DTSTART;TZID=America/New_York:20240830T173000
DTEND;TZID=America/New_York:20240831T220000
DTSTAMP:20240613T192730Z
URL:https://brmt.th-devsite.com/events/labor-day-weekend-gospel-sing-2/
SUMMARY:Labor Day Weekend Gospel Sing
DESCRIPTION:Every Labor Day weekend‚ a gospel sing is held at Dominion Va
 lley Park in Stuart‚ Virginia. This is an all-day event with the singing
  starting in the morning and lasting all day.\nPhone: 276-694-4245\nEmail
 : dominionvalleyllc@embarqmail.com\nURL: http://www.dominionvalleyllc.co
 m/labor-day-weekend.html\nHours: Fri: 5:30pm-10pm‚ Sat: 5:30pm-10pm‚ S
 unday service 10:30am-noon\n\nDirections:\nFrom Stuart take US 58 toward M
 artinsville. One mile past the Critz sign you will find Route 700. Turn ri
 ght onto Route 700. Turn right on Dominion Valley Lane‚ go about 3 miles
 ‚ and the Park is on your right.
CATEGORIES:Concert
LOCATION:Dominion Valley Park\, 481 Dominion Valley Lane\, Stuart\, VA\, 24
 171\, United States
X-APPLE-STRUCTURED-LOCATION;VALUE=URI;X-ADDRESS=481 Dominion Valley Lane\, 
 Stuart\, VA\, 24171\, United States;X-APPLE-RADIUS=100;X-TITLE=Dominion Va
 lley Park:geo:0,0
END:VEVENT
BEGIN:VTIMEZONE
TZID:America/New_York
X-LIC-LOCATION:America/New_York
BEGIN:DAYLIGHT
DTSTART:20240310T030000
TZOFFSETFROM:-0500
TZOFFSETTO:-0400
TZNAME:EDT
END:DAYLIGHT
END:VTIMEZONE
END:VCALENDAR