BEGIN:VCALENDAR
VERSION:2.0
PRODID:-//wp-events-plugin.com//7.2.3.1//EN
BEGIN:VEVENT
UID:342@brmt.th-devsite.com
DTSTART;TZID=America/New_York:20240615T110000
DTEND;TZID=America/New_York:20240615T160000
DTSTAMP:20240604T193732Z
URL:https://brmt.th-devsite.com/events/juneteenth-celebration/
SUMMARY:Juneteenth Celebration
DESCRIPTION:On April 5‚ 1856‚ Booker T. Washington was born a slave on 
 the 207-acre farm of James Burroughs. After the Civil War‚ Washington be
 came the first principal of Tuskegee Normal and Industrial School. Later a
 s an adviser‚ author and orator‚ his past would influence his philosop
 hies as the most influential African American of his era. Freedom is the f
 ocus of this emancipation celebration for the whole family. Tour the Burro
 ughs Planation and listen to the sounds of regional gospel music.\n\nPhone
 : 540-721-2094\nEmail: betsy_haynes@nps.gov\nURL: https://www.nps.gov/b
 owa/index.htm\nHours: 11:00am-4:00pm\n\nThe park is located in Franklin Co
 unty‚ VA‚ 16 miles northeast of Rocky Mount‚ VA via VA 40E and VA 12
 2N\; 25 miles southeast of Roanoke‚ VA via US 220S‚ VA 40E‚ and VA 1
 22N\; and 50 miles southwest of Lynchburg‚ VA via US 460W and VA 122S.
CATEGORIES:Festival
LOCATION:Booker T. Washington National Monument\, 12130 Booker T Washington
  Hwy\, Hardy\, VA\, 24101\, United States
X-APPLE-STRUCTURED-LOCATION;VALUE=URI;X-ADDRESS=12130 Booker T Washington H
 wy\, Hardy\, VA\, 24101\, United States;X-APPLE-RADIUS=100;X-TITLE=Booker 
 T. Washington National Monument:geo:0,0
END:VEVENT
BEGIN:VTIMEZONE
TZID:America/New_York
X-LIC-LOCATION:America/New_York
BEGIN:DAYLIGHT
DTSTART:20240310T030000
TZOFFSETFROM:-0500
TZOFFSETTO:-0400
TZNAME:EDT
END:DAYLIGHT
END:VTIMEZONE
END:VCALENDAR