BEGIN:VCALENDAR
VERSION:2.0
PRODID:-//wp-events-plugin.com//7.2.3.1//EN
BEGIN:VEVENT
UID:371@brmt.th-devsite.com
DTSTART;TZID=America/New_York:20240704T090000
DTEND;TZID=America/New_York:20240704T150000
DTSTAMP:20240606T182645Z
URL:https://brmt.th-devsite.com/events/independence-fourth-of-july-celebra
 tion/
SUMMARY:Independence Fourth of July Celebration
DESCRIPTION:What better place to enjoy a Fourth of July celebration than at
  a place called Independence? Independence’s main street fills with loca
 l folks and visitors all there doing their part to celebrate American inde
 pendence. There is barbecue‚ games‚ crafts‚ country and bluegrass mu
 sic‚ and a festive parade (10:00am). The celebration ends at night with 
 lots of fireworks. This event has been cancelled this year due to Covid.\n
 Phone: (276) 773-3711\nEmail: townmanager@independenceva.com\nURL: http
 ://www.independenceva.com\nHours: 9:00am to 3:00pm\n\nDirections:\nThe tow
 n of Independence is located at the intersection of US 58/221 and US 21/22
 1.
CATEGORIES:Festival,Gathering
LOCATION:1908 Courthouse\, 85 County Park Lane\, Independence\, VA\, 24348\
 , United States
X-APPLE-STRUCTURED-LOCATION;VALUE=URI;X-ADDRESS=85 County Park Lane\, Indep
 endence\, VA\, 24348\, United States;X-APPLE-RADIUS=100;X-TITLE=1908 Court
 house:geo:0,0
END:VEVENT
BEGIN:VTIMEZONE
TZID:America/New_York
X-LIC-LOCATION:America/New_York
BEGIN:DAYLIGHT
DTSTART:20240310T030000
TZOFFSETFROM:-0500
TZOFFSETTO:-0400
TZNAME:EDT
END:DAYLIGHT
END:VTIMEZONE
END:VCALENDAR