BEGIN:VCALENDAR
VERSION:2.0
PRODID:-//wp-events-plugin.com//7.2.3.1//EN
BEGIN:VEVENT
UID:370@brmt.th-devsite.com
DTSTART;TZID=America/New_York:20240628T000000
DTEND;TZID=America/New_York:20240630T000000
DTSTAMP:20240703T185359Z
URL:https://brmt.th-devsite.com/events/grayson-county-old-time-and-bluegra
 ss-fiddlers-convention/
SUMMARY:Grayson County Old-Time and Bluegrass Fiddlers’ Convention
DESCRIPTION:Another fine example of the many great fiddlers’ conventions 
 that occur every spring and summer in the central Blue Ridge‚ the Grayso
 n County Fiddlers’ Convention is a well-established event that includes 
 music competitions (in a variety of styles)‚ concessions‚ and camping.
  ALWAYS THE LAST FULL WEEKEND IN JUNE This two-evening event is a favorite
  venue for many of the fine local musicians who live in nearby communities
 . It was featured in the June 1999 edition of National Geographic magazine
 .\n\nPhone: 1-276-655-4785\nEmail: ecvfd@ls.net\nURL: http://www.ecvfd.
 net\n\nDirections:\nFrom Independence take US 21 toward Wytheville. When y
 ou come to Comer’s Rock Road (Route 658) at Elk Creek take a left and fo
 llow the signs to Elk Creek School on the left.
CATEGORIES:Gathering
LOCATION:Elk Creek School Ball Park\,  Route 658\, 57 School Lane\, Elk Cre
 ek\, VA\, 24326\, United States
X-APPLE-STRUCTURED-LOCATION;VALUE=URI;X-ADDRESS= Route 658\, 57 School Lane
 \, Elk Creek\, VA\, 24326\, United States;X-APPLE-RADIUS=100;X-TITLE=Elk C
 reek School Ball Park:geo:0,0
END:VEVENT
BEGIN:VTIMEZONE
TZID:America/New_York
X-LIC-LOCATION:America/New_York
BEGIN:DAYLIGHT
DTSTART:20240310T030000
TZOFFSETFROM:-0500
TZOFFSETTO:-0400
TZNAME:EDT
END:DAYLIGHT
END:VTIMEZONE
END:VCALENDAR