BEGIN:VCALENDAR
VERSION:2.0
PRODID:-//wp-events-plugin.com//7.2.3.1//EN
BEGIN:VEVENT
UID:360@brmt.th-devsite.com
DTSTART;TZID=America/New_York;VALUE=DATE:20240805
DTEND;TZID=America/New_York;VALUE=DATE:20240811
DTSTAMP:20240605T174614Z
URL:https://brmt.th-devsite.com/events/galax-old-fiddlers-convention/
SUMMARY:Galax Old Fiddlers’ Convention
DESCRIPTION:The Old Fiddlers’ Convention is an unqualified round-the-cloc
 k buffet of old-time and bluegrass music. The Convention originated in 193
 5‚ and except for a single year during World War II‚ it has happened e
 very year since‚ making it about the oldest and most popular such event 
 in Appalachia. At the 2000 Convention a total of 2‚175 musicians registe
 red to compete. During the evenings of the Convention each musician plays 
 his or her selection on stage for the allotted two and a half minutes‚ a
 nd sometimes the competition can go on until three or four o’clock in th
 e morning. While that is happening‚ all around the festival grounds musi
 cians and music lovers play and listen to each other. The Convention site 
 has seating for 1‚000 people‚ but it never hurts to bring along foldin
 g chairs. At the height of the event on Friday and Saturday evenings‚ an
  audience of 10‚000 or more may be in attendance‚ so plan to arrive ea
 rly and stay late - very late. Do not forget to bring along your foul weat
 her gear‚ this event is famous for its sudden and torrential thunder sto
 rms.\n\nPhone: 276-236-8541\nURL: http://www.oldfiddlersconvention.com/\
 n\nDirections:\nTo find the Galax Old Fiddlers’ Convention‚ take exit 
 14 off Interstate 77‚ and go on US 58/221 to Galax. Turn on to Main Stre
 et at the light and go through town to Felts Park.
CATEGORIES:Gathering
LOCATION:Felts Park\, 601 South Main Street\, Galax\, VA\, 24333\, United S
 tates
X-APPLE-STRUCTURED-LOCATION;VALUE=URI;X-ADDRESS=601 South Main Street\, Gal
 ax\, VA\, 24333\, United States;X-APPLE-RADIUS=100;X-TITLE=Felts Park:geo:
 0,0
END:VEVENT
BEGIN:VTIMEZONE
TZID:America/New_York
X-LIC-LOCATION:America/New_York
BEGIN:DAYLIGHT
DTSTART:20240310T030000
TZOFFSETFROM:-0500
TZOFFSETTO:-0400
TZNAME:EDT
END:DAYLIGHT
END:VTIMEZONE
END:VCALENDAR