BEGIN:VCALENDAR
VERSION:2.0
PRODID:-//wp-events-plugin.com//7.2.3.1//EN
BEGIN:VEVENT
UID:374@brmt.th-devsite.com
DTSTART;TZID=America/New_York;VALUE=DATE:20240813
DTEND;TZID=America/New_York;VALUE=DATE:20240815
DTSTAMP:20240521T171445Z
URL:https://brmt.th-devsite.com/events/fries-fiddlers-convention/
SUMMARY:Fries Fiddlers’ Convention
DESCRIPTION:Since 1965‚ Fries has offered their own unique Fiddlers’ Co
 nvention. The event is sponsored by the Fries Volunteer Fire and Rescue De
 partment. This Fiddler’s Convention is traditionally held the weekend af
 ter the Old Fiddlers’ Convention in Galax‚ VA.\n\nPhone: 276-744-2141
 \nEmail: friesfireandrescue@gmail.com\nURL: http://friesfire.com/fries-f
 iddlers-convention/\nDirections:\nFrom the Fries Ballpark‚ follow Route 
 94 South for approximately 3 miles. Turn right on Spring Valley Road and P
 rovidence Elementary School will be approximately 2 miles on the right. Gr
 ounds are at the intersection of Spring Valley Road and Bainbridge Road.\n
 &nbsp\;
CATEGORIES:Gathering
LOCATION:Providence Elementary School\,  56 Bainbridge Road\, Fries\, VA\, 
 24330\, United States
X-APPLE-STRUCTURED-LOCATION;VALUE=URI;X-ADDRESS= 56 Bainbridge Road\, Fries
 \, VA\, 24330\, United States;X-APPLE-RADIUS=100;X-TITLE=Providence Elemen
 tary School:geo:0,0
END:VEVENT
BEGIN:VTIMEZONE
TZID:America/New_York
X-LIC-LOCATION:America/New_York
BEGIN:DAYLIGHT
DTSTART:20240310T030000
TZOFFSETFROM:-0500
TZOFFSETTO:-0400
TZNAME:EDT
END:DAYLIGHT
END:VTIMEZONE
END:VCALENDAR