BEGIN:VCALENDAR
VERSION:2.0
PRODID:-//wp-events-plugin.com//7.2.3.1//EN
BEGIN:VEVENT
UID:311@brmt.th-devsite.com
DTSTART;TZID=America/New_York:20241006T160000
DTEND;TZID=America/New_York:20241006T160000
DTSTAMP:20240625T180000Z
URL:https://brmt.th-devsite.com/events/crawford-brothers-quartet-anniversa
 ry-sing-2/
SUMMARY:Crawford Brothers’ Quartet Anniversary Sing
DESCRIPTION:This annual gospel music event celebrates the singing tradition
  of the Crawford Brothers’ Quartet‚ a noted local gospel group. The an
 niversary sing has been going on for over 65 years! The Crawford Brothers 
 and many other gospel groups perform. Come early‚ around 11am‚ for an 
 all-you-can-eat buffet lunch. Carry out food and sandwiches are for sale i
 n the evening.\nPhone: 540-886-5936\nHours: 4 p.m.\n\n
CATEGORIES:Concert
LOCATION:Memorial Baptist Church\, 224 Taylor Street\, Staunton\, Virginia\
 , 24401\, United States
X-APPLE-STRUCTURED-LOCATION;VALUE=URI;X-ADDRESS=224 Taylor Street\, Staunto
 n\, Virginia\, 24401\, United States;X-APPLE-RADIUS=100;X-TITLE=Memorial B
 aptist Church:geo:0,0
END:VEVENT
BEGIN:VTIMEZONE
TZID:America/New_York
X-LIC-LOCATION:America/New_York
BEGIN:DAYLIGHT
DTSTART:20240310T030000
TZOFFSETFROM:-0500
TZOFFSETTO:-0400
TZNAME:EDT
END:DAYLIGHT
END:VTIMEZONE
END:VCALENDAR