BEGIN:VCALENDAR
VERSION:2.0
PRODID:-//wp-events-plugin.com//7.2.3.1//EN
BEGIN:VEVENT
UID:499@brmt.th-devsite.com
DTSTART;TZID=America/New_York:20240601T110000
DTEND;TZID=America/New_York:20240601T123000
DTSTAMP:20240528T132635Z
URL:https://brmt.th-devsite.com/events/community-drumming-circle/
SUMMARY:Community Drumming Circle
DESCRIPTION:Mondays\, Thursdays\, and Saturdays are jam days!  Front Porch
  jams are open to all levels of players\, including Front Porch students a
 s well as non-students. Attending a jam is free\, low-key\, and fun! All j
 ams take place at our Water Street location\, except for the 2nd Monday 
 Old Time Jam\, which takes place at our Dale Ave location\, and the 3rd 
 Thursday Open Mic Night\, which takes place at Potter’s Craft Cider.\n\n
 Jam Host: Kevin Munro\n\nPhone: (434) 806-7062\nEmail: info@frontporchcvi
 lle.org\nURL: http://frontporchcville.org\n\nHours: every Saturday: 11:00
 am-12:30pm
CATEGORIES:Jam Session
LOCATION:Old Time Jam\, 221 Water Street East\, Charlottesville\, Virginia\
 , 22902\, United States
X-APPLE-STRUCTURED-LOCATION;VALUE=URI;X-ADDRESS=221 Water Street East\, Cha
 rlottesville\, Virginia\, 22902\, United States;X-APPLE-RADIUS=100;X-TITLE
 =Old Time Jam:geo:0,0
END:VEVENT
BEGIN:VTIMEZONE
TZID:America/New_York
X-LIC-LOCATION:America/New_York
BEGIN:DAYLIGHT
DTSTART:20240310T030000
TZOFFSETFROM:-0500
TZOFFSETTO:-0400
TZNAME:EDT
END:DAYLIGHT
END:VTIMEZONE
END:VCALENDAR