BEGIN:VCALENDAR
VERSION:2.0
PRODID:-//wp-events-plugin.com//7.2.3.1//EN
BEGIN:VEVENT
UID:216@brmt.th-devsite.com
DTSTART;TZID=America/New_York:20230923T100000
DTEND;TZID=America/New_York:20230923T180000
DTSTAMP:20230629T215154Z
URL:https://brmt.th-devsite.com/events/centerfest-at-bedford-farmers-marke
 t/
SUMMARY:CenterFest at Bedford Farmer’s Market
DESCRIPTION:Bedford Main Street’s signature event‚ Centerfest‚ has be
 en running annually for over thirty years. Spanning over four blocks and d
 rawing crowds of over 10‚000 it is an event for the entire family. Attra
 ctions at Centerfest include over a hundred vendors and organizations prov
 iding various crafts‚ traditional music‚ art‚ and information. Due t
 o COVID-19 please call ahead of time to verify festival information.\n\nCo
 ntact: Amanda Adams\nMailing Address: PO Box 405\, Bedford VA 24523\nPhone
 : 540-425-5653\nURL: https://www.bedfordcenterfest.com/\n\nDirections:\n
 From Roanoke‚ take Route 460 east to the town of Bedford. (Do not take t
 he by-pass.) From Lynchburg‚ take Route 460 west to the town of Bedford.
  (Again‚ do not take the by-pass.)
CATEGORIES:Concert
LOCATION:Centertown Bedford\, 122 East Main Street\, Bedford \, Virginia\, 
 24523\, Bedford\, United States
GEO:37.33403;-79.522844
X-APPLE-STRUCTURED-LOCATION;VALUE=URI;X-ADDRESS=122 East Main Street\, Bedf
 ord \, Virginia\, 24523\, Bedford\, United States;X-APPLE-RADIUS=100;X-TIT
 LE=Centertown Bedford:geo:37.33403,-79.522844
END:VEVENT
BEGIN:VTIMEZONE
TZID:America/New_York
X-LIC-LOCATION:America/New_York
BEGIN:DAYLIGHT
DTSTART:20230312T030000
TZOFFSETFROM:-0500
TZOFFSETTO:-0400
TZNAME:EDT
END:DAYLIGHT
END:VTIMEZONE
END:VCALENDAR