BEGIN:VCALENDAR
VERSION:2.0
PRODID:-//wp-events-plugin.com//7.2.3.1//EN
BEGIN:VEVENT
UID:319@brmt.th-devsite.com
DTSTART;TZID=America/New_York;VALUE=DATE:20241026
DTEND;TZID=America/New_York;VALUE=DATE:20241027
DTSTAMP:20240719T191123Z
URL:https://brmt.th-devsite.com/events/buzzy-coleman-chili-cook-off/
SUMMARY:Buzzy Coleman Chili Cook-Off
DESCRIPTION:The Sedalia Center is a regional non-profit organization that
 ’s designed to "ignite and nourish the creative process by offering prog
 rams in the arts‚ culture‚ environmental awareness‚ health‚ and in
 ner development." The Center sponsors a series of annual events that incor
 porate and showcase Southern Appalachian music and dance traditions.\n\nPh
 one: 434-299-5080\nEmail: director@sedaliacenter.org\nURL: http://www.s
 edaliacenter.org\n\nDirections:\nFrom Bedford take Route 122 north to Rout
 e 638 (Sedalia School Road) on the left. From Lynchburg take Route 122 sou
 th to Route 638 (Sedalia School Road) on the right. The Center can be seen
  from Route 122.\n\n&nbsp\;
CATEGORIES:Festival
LOCATION:Sedalia Center\, 1108 Sedalia School Road\, Big Island \, Virginia
 \, 24526\, Bedford\, United States
GEO:37.490487;-79.44327
X-APPLE-STRUCTURED-LOCATION;VALUE=URI;X-ADDRESS=1108 Sedalia School Road\, 
 Big Island \, Virginia\, 24526\, Bedford\, United States;X-APPLE-RADIUS=10
 0;X-TITLE=Sedalia Center:geo:37.490487,-79.44327
END:VEVENT
BEGIN:VTIMEZONE
TZID:America/New_York
X-LIC-LOCATION:America/New_York
BEGIN:DAYLIGHT
DTSTART:20240310T030000
TZOFFSETFROM:-0500
TZOFFSETTO:-0400
TZNAME:EDT
END:DAYLIGHT
END:VTIMEZONE
END:VCALENDAR