BEGIN:VCALENDAR
VERSION:2.0
PRODID:-//wp-events-plugin.com//7.2.3.1//EN
BEGIN:VEVENT
UID:519@brmt.th-devsite.com
DTSTART;TZID=America/New_York:20240615T190000
DTEND;TZID=America/New_York:20240616T210000
DTSTAMP:20240603T170950Z
URL:https://brmt.th-devsite.com/events/blue-ridge-music-center-summer-conc
 ert-series-2024-06-15/
SUMMARY:Blue Ridge Music Center Summer Concert Series
DESCRIPTION:The Blue Ridge Music Center presents a series of concerts showc
 asing local‚ regional‚ and nationally known musicians on Saturday even
 ings at the Blue Ridge Music Center amphitheater on the Blue Ridge Parkway
 . These concerts celebrate the region’s rich musical traditions in the h
 eart of the Blue Ridge Mountains. People are encouraged to bring lawn chai
 rs and blankets for the event. The Visitor Center and Museum are open dail
 y 9 - 5. Depending on the concert depends on the start of the show.\n\nPho
 ne: 276-236-5309\nEmail: debbie@blueridgecenter.net\nURL: http://www.bl
 ueridgemusiccenter.net
CATEGORIES:Concert
LOCATION:Blue Ridge Music Center\, 700 Foothills Road \, Galax \, Virginia\
 , 24333\, Carroll\, United States
GEO:36.573188;-80.850277
X-APPLE-STRUCTURED-LOCATION;VALUE=URI;X-ADDRESS=700 Foothills Road \, Galax
  \, Virginia\, 24333\, Carroll\, United States;X-APPLE-RADIUS=100;X-TITLE=
 Blue Ridge Music Center:geo:36.573188,-80.850277
END:VEVENT
BEGIN:VTIMEZONE
TZID:America/New_York
X-LIC-LOCATION:America/New_York
BEGIN:DAYLIGHT
DTSTART:20240310T030000
TZOFFSETFROM:-0500
TZOFFSETTO:-0400
TZNAME:EDT
END:DAYLIGHT
END:VTIMEZONE
END:VCALENDAR