BEGIN:VCALENDAR
VERSION:2.0
PRODID:-//wp-events-plugin.com//7.2.3.1//EN
BEGIN:VEVENT
UID:4438@brmt.th-devsite.com
DTSTART;TZID=America/New_York:20240605T190000
DTEND;TZID=America/New_York:20240605T210000
DTSTAMP:20240719T180652Z
URL:https://brmt.th-devsite.com/events/blacksburg-market-square-jam-2024-0
 6-05/
SUMMARY:Blacksburg Market Square Jam
DESCRIPTION:Blacksburg’s Market Square Jam is an official Crooked Road af
 filiated venue that provides fun and entertainment on Wednesday evenings
 ‚ June through September. The Jam takes place at Market Square Park from
  8-10 p.m. Catering to traditional old time music‚ the Market Square Jam
  brings regional musicians together to pick a tune‚ enjoy fun times with
  their friends and family‚ and take in all that downtown Blacksburg has 
 to offer. If you’re a musician or just interested in learning‚ come on
  out to the Jam and play with the best. Or‚ if you’re just looking for
  a place to kick back on a Wednesday night‚ bring a chair or a blanket a
 nd join us at the park. Note: Minimal bench seating is available in the pa
 rk. Musicians and attendees are encouraged to bring chairs.\nPhone: 540-9
 61-1199\nEmail: cro@blacksburg.gov\nURL: http://www.blacksburg.gov/depar
 tments/departments-a-k/community-relations/market-square-jam\nHours: 7:00-
 9:00pm\n\nDirections:\nCorner of Roanoke Street and Draper Road in Downtow
 n Blacksburg.
CATEGORIES:Jam Session
LOCATION:Market Square Park\, 100 Draper Road\, Blacksburg\, VA\, 24060\, U
 nited States
X-APPLE-STRUCTURED-LOCATION;VALUE=URI;X-ADDRESS=100 Draper Road\, Blacksbur
 g\, VA\, 24060\, United States;X-APPLE-RADIUS=100;X-TITLE=Market Square Pa
 rk:geo:0,0
END:VEVENT
BEGIN:VTIMEZONE
TZID:America/New_York
X-LIC-LOCATION:America/New_York
BEGIN:DAYLIGHT
DTSTART:20240310T030000
TZOFFSETFROM:-0500
TZOFFSETTO:-0400
TZNAME:EDT
END:DAYLIGHT
END:VTIMEZONE
END:VCALENDAR