BEGIN:VCALENDAR
VERSION:2.0
PRODID:-//wp-events-plugin.com//7.2.3.1//EN
BEGIN:VEVENT
UID:428@brmt.th-devsite.com
DTSTART;TZID=America/New_York:20241129T190000
DTEND;TZID=America/New_York:20241129T190000
DTSTAMP:20240718T185422Z
URL:https://brmt.th-devsite.com/events/black-friday-jam/
SUMMARY:Black Friday Jam
DESCRIPTION:For over 15 years‚ Jim Lloyd has had a "Black Friday Jam" in 
 his Rural Retreat Barber Shop the evening after Thanksgiving and has hoste
 d up to 70 musicians playing an evening of good local music.\nPhone: 276-
 686-5976\nEmail: jimlloydmusic@gmail.com\nURL: https://jimlloydappalachi
 anmusician.com/about/black-friday-jam-at-lloyds-barber-shop/\nHours: 7:00p
 m\n\nDirections:\nFrom Interstate 40‚ take Exit 60 towards Rural Retreat
 . Black Lick Road becomes North Main Street/Hwy 90. Go approximately 1.5 m
 iles and the barbershop is on the right.
CATEGORIES:Jam Session
LOCATION:Jim Lloyd’s Barbershop\, 115 North Main Street\, Rural Retreat\,
  VA\, 24368\, United States
X-APPLE-STRUCTURED-LOCATION;VALUE=URI;X-ADDRESS=115 North Main Street\, Rur
 al Retreat\, VA\, 24368\, United States;X-APPLE-RADIUS=100;X-TITLE=Jim Llo
 yd’s Barbershop:geo:0,0
END:VEVENT
BEGIN:VTIMEZONE
TZID:America/New_York
X-LIC-LOCATION:America/New_York
BEGIN:STANDARD
DTSTART:20241103T010000
TZOFFSETFROM:-0400
TZOFFSETTO:-0500
TZNAME:EST
END:STANDARD
END:VTIMEZONE
END:VCALENDAR