BEGIN:VCALENDAR
VERSION:2.0
PRODID:-//wp-events-plugin.com//7.2.3.1//EN
BEGIN:VEVENT
UID:425@brmt.th-devsite.com
DTSTART;TZID=America/New_York:20240704T140000
DTEND;TZID=America/New_York:20240728T160000
DTSTAMP:20240718T184657Z
URL:https://brmt.th-devsite.com/events/big-walker-lookout-mountain-top-mus
 ic/
SUMMARY:Big Walker Lookout Mountain Top Music
DESCRIPTION:Big Walker Lookout &amp\; Country Store present Mountain Top 
 Music each Saturday &amp\; Sunday.  From gospel to bluegrass to clogging
 \, there's fun for the entire family!  Local authors and artisans will al
 so be on site throughout the season.\nPhone: 276-663-4016\nURL: https://
 www.scenicbeauty-va.com\nHours: 10:00am - 6:00pm\n\nDirections:\nFrom Inde
 pendence\, head west on E Main St toward State Rte T 1137\, then turn righ
 t onto US-21 N/N Independence Ave. Continue to follow US-21 N then turn le
 ft onto N 4th St. Continue onto US-52 N.
CATEGORIES:Concert
LOCATION:Big Walker Lookout\, 8711 Stoney Fork Road\, Wytheville\, VA\, 243
 82\, United States
X-APPLE-STRUCTURED-LOCATION;VALUE=URI;X-ADDRESS=8711 Stoney Fork Road\, Wyt
 heville\, VA\, 24382\, United States;X-APPLE-RADIUS=100;X-TITLE=Big Walker
  Lookout:geo:0,0
END:VEVENT
BEGIN:VTIMEZONE
TZID:America/New_York
X-LIC-LOCATION:America/New_York
BEGIN:DAYLIGHT
DTSTART:20240310T030000
TZOFFSETFROM:-0500
TZOFFSETTO:-0400
TZNAME:EDT
END:DAYLIGHT
END:VTIMEZONE
END:VCALENDAR