BEGIN:VCALENDAR
VERSION:2.0
PRODID:-//wp-events-plugin.com//7.2.3.1//EN
BEGIN:VEVENT
UID:472@brmt.th-devsite.com
DTSTART;TZID=America/New_York:20240509T190000
DTEND;TZID=America/New_York:20240509T203000
DTSTAMP:20240524T171100Z
URL:https://brmt.th-devsite.com/events/beginner-bluegrass-jam-13/
SUMMARY:Beginner Bluegrass Jam
DESCRIPTION:Mondays\, Thursdays\, and Saturdays are jam days!  Front Porch
  jams are open to all levels of players\, including Front Porch students a
 s well as non-students. Attending a jam is free\, low-key\, and fun! All j
 ams take place at our Water Street location\, except for the 2nd Monday 
 Old Time Jam\, which takes place at our Dale Ave location\, and the 3rd 
 Thursday Open Mic Night\, which takes place at Potter’s Craft Cider.\n\n
 Jam Hosts: Lucas Rhondeau &amp\; Rick Ramsey\n\nPhone: (434) 806-7062\nEma
 il: info@frontporchcville.org\nURL: http://frontporchcville.org\n\nHours
 : 2nd Thursday: 7:00pm-8:30pm\n\nDirections:\nFrom 64 West- Take the VA-63
 1/5th St. exit\, Exit 120 towards Charlottesville. Turn left onto 5th St. 
 and continue to follow for approximately 2.13 miles. Turn right onto Water
  St. E\, our building will be on the left.
CATEGORIES:Jam Session
LOCATION:The Front Porch - Charlottesville\, 221 Water Street East\, Charlo
 ttesville\, Virginia\, 22902\, Albemarle\, United States
X-APPLE-STRUCTURED-LOCATION;VALUE=URI;X-ADDRESS=221 Water Street East\, Cha
 rlottesville\, Virginia\, 22902\, Albemarle\, United States;X-APPLE-RADIUS
 =100;X-TITLE=The Front Porch - Charlottesville:geo:0,0
END:VEVENT
BEGIN:VTIMEZONE
TZID:America/New_York
X-LIC-LOCATION:America/New_York
BEGIN:DAYLIGHT
DTSTART:20240310T030000
TZOFFSETFROM:-0500
TZOFFSETTO:-0400
TZNAME:EDT
END:DAYLIGHT
END:VTIMEZONE
END:VCALENDAR