BEGIN:VCALENDAR
VERSION:2.0
PRODID:-//wp-events-plugin.com//7.2.3.1//EN
BEGIN:VEVENT
UID:372@brmt.th-devsite.com
DTSTART;TZID=America/New_York:20240907T100000
DTEND;TZID=America/New_York:20240907T170000
DTSTAMP:20240625T171759Z
URL:https://brmt.th-devsite.com/events/albert-hash-memorial-festival/
SUMMARY:Albert Hash Memorial Festival
DESCRIPTION:This festival is held in honor of the beloved fiddle-maker and 
 fiddler‚ Albert L. Hash and hopes to preserve and promote traditional mo
 untain music‚ dance‚ crafts and instrument making. Concessions are ava
 ilable.\nPhone: 276-579-7092\nEmail: GraysonHighlands@dcr.virginia.gov\n
 URL: https://www.dcr.virginia.gov/state-parks/grayson-highlands#other_inf
 o\nHours: 11a.m.-6p.m.\n\nDirections:\nFrom Independence‚ take US 58 thr
 ough Mouth of Wilson and Volney to Rt. 362. the entrance sign to Grayson H
 ighlands State Park is on the right. Turn right and follow the signage.
CATEGORIES:Festival
LOCATION:Grayson Highlands State Park\, 829 Grayson Highland Lane\, Mouth o
 f Wilson\, Virginia\, 24363\, United States
X-APPLE-STRUCTURED-LOCATION;VALUE=URI;X-ADDRESS=829 Grayson Highland Lane\,
  Mouth of Wilson\, Virginia\, 24363\, United States;X-APPLE-RADIUS=100;X-T
 ITLE=Grayson Highlands State Park:geo:0,0
END:VEVENT
BEGIN:VTIMEZONE
TZID:America/New_York
X-LIC-LOCATION:America/New_York
BEGIN:DAYLIGHT
DTSTART:20240310T030000
TZOFFSETFROM:-0500
TZOFFSETTO:-0400
TZNAME:EDT
END:DAYLIGHT
END:VTIMEZONE
END:VCALENDAR