BEGIN:VCALENDAR
VERSION:2.0
PRODID:-//wp-events-plugin.com//7.2.3.1//EN
BEGIN:VEVENT
UID:427@brmt.th-devsite.com
DTSTART;TZID=America/New_York:20240802T183000
DTEND;TZID=America/New_York:20240802T213000
DTSTAMP:20240718T171853Z
URL:https://brmt.th-devsite.com/events/after-hours-concert-series/
SUMMARY:After Hours Concert Series
DESCRIPTION:The first Friday evening of the summer months (June-July)\, the
  Town of Wytheville presents the After Hours Concert Series\, featuring po
 pular beach music\, dancing\, food and drink vendors in Withers Park.  
  200 Withers Road in Wytheville VA.  Gates open at 5:30 PM\, show start
 s at 6:30 PM.  In case of rain and/or severe weather\, the event will be 
 held at the Wytheville Meeting Center. July concert will be held in conju
 nction with Downtown Wytheville's July 4 Celebration on July 4.\nPhone: 2
 76-223-3378\nURL: https://www.wytheville.org\nHours: 6:30pm-9:30pm\n\nDir
 ections:\nFrom Independence\, follow US-21 N to Wytheville. Head west on E
  Main St toward State Rte T 1137. Turn right onto US-21 N/N Independence A
 ve. Continue to follow US-21 N. take W Monroe St and Peppers Ferry Rd to y
 our destination in East Wytheville.
CATEGORIES:Concert
LOCATION:Withers Park\, 333 Community Blvd\, Wytheville\, VA\, 24382\, Unit
 ed States
X-APPLE-STRUCTURED-LOCATION;VALUE=URI;X-ADDRESS=333 Community Blvd\, Wythev
 ille\, VA\, 24382\, United States;X-APPLE-RADIUS=100;X-TITLE=Withers Park:
 geo:0,0
END:VEVENT
BEGIN:VTIMEZONE
TZID:America/New_York
X-LIC-LOCATION:America/New_York
BEGIN:DAYLIGHT
DTSTART:20240310T030000
TZOFFSETFROM:-0500
TZOFFSETTO:-0400
TZNAME:EDT
END:DAYLIGHT
END:VTIMEZONE
END:VCALENDAR